BEGIN:VCALENDAR
PRODID:-//Microsoft Corporation//Outlook 12.0 MIMEDIR//EN
VERSION:2.0
CALSCALE:GREGORIAN
BEGIN:VEVENT
UID: 4ddd5fb1-3377-40f3-ab0f-a3d5a912fd47
SUMMARY:Mälumängu V voor
DTSTAMP:20220512
DTSTART:20220512
DTEND:20220513
DURATION:P1D
LOCATION:suur maja H
DESCRIPTION: <p><strong>Link: </strong>https://hariduse.edu.ee/et/sundmuste-kalender/malumangu-v-voor-0</p><p><strong>Hind: </strong></p>
STATUS:CONFIRMED
SEQUENCE:3
X-ALT-DESC;FMTTYPE=text/html:<p><strong>Link: </strong>https://hariduse.edu.ee/et/sundmuste-kalender/malumangu-v-voor-0</p><p><strong>Hind: </strong></p>
X-MICROSOFT-CDO-BUSYSTATUS:OOF
X-MICROSOFT-CDO-IMPORTANCE:1
X-MICROSOFT-DISALLOW-COUNTER:FALSE
X-MS-OLK-ALLOWEXTERNCHECK:TRUE
X-MS-OLK-CONFTYPE:0
X-MICROSOFT-CDO-ALLDAYEVENT:1
X-MICROSOFT-MSNCALENDAR-ALLDAYEVENT:1
END:VEVENT
END:VCALENDAR