BEGIN:VCALENDAR
PRODID:-//Microsoft Corporation//Outlook 12.0 MIMEDIR//EN
VERSION:2.0
CALSCALE:GREGORIAN
BEGIN:VEVENT
UID: 63f76fb1-ec99-4e76-b3df-8de8ec0243c3
SUMMARY:Saaremaa laulupeo üldproov - mudilaskoorid
DTSTAMP:20260423T110000
DTSTART:20260423T110000
DTEND:20260423T140000
LOCATION:Aula (I korrus)
DESCRIPTION: <p><strong>Link: </strong>https://hariduse.edu.ee/et/sundmuste-kalender/saaremaa-laulupeo-uldproov-mudilaskoorid</p><p><strong>Hind: </strong></p>
STATUS:CONFIRMED
SEQUENCE:3
X-ALT-DESC;FMTTYPE=text/html:<p><strong>Link: </strong>https://hariduse.edu.ee/et/sundmuste-kalender/saaremaa-laulupeo-uldproov-mudilaskoorid</p><p><strong>Hind: </strong></p>
X-MICROSOFT-CDO-BUSYSTATUS:OOF
X-MICROSOFT-CDO-IMPORTANCE:1
X-MICROSOFT-DISALLOW-COUNTER:FALSE
X-MS-OLK-ALLOWEXTERNCHECK:TRUE
X-MS-OLK-CONFTYPE:0
X-MICROSOFT-CDO-ALLDAYEVENT:
X-MICROSOFT-MSNCALENDAR-ALLDAYEVENT:
END:VEVENT
END:VCALENDAR