BEGIN:VCALENDAR
PRODID:-//Microsoft Corporation//Outlook 12.0 MIMEDIR//EN
VERSION:2.0
CALSCALE:GREGORIAN
BEGIN:VEVENT
UID: 13d2d724-c3fc-4e44-8cec-dff90e9c754e
SUMMARY:Põhikoolide näitemängupäev
DTSTAMP:20260424
DTSTART:20260424
DTEND:20260425
DURATION:P1D
LOCATION:Leisi Kool
DESCRIPTION: <p><strong>Link: </strong>https://hariduse.edu.ee/et/sundmuste-kalender/pohikoolide-naitemangupaev-0</p><p><strong>Hind: </strong></p>
STATUS:CONFIRMED
SEQUENCE:3
X-ALT-DESC;FMTTYPE=text/html:<p><strong>Link: </strong>https://hariduse.edu.ee/et/sundmuste-kalender/pohikoolide-naitemangupaev-0</p><p><strong>Hind: </strong></p>
X-MICROSOFT-CDO-BUSYSTATUS:OOF
X-MICROSOFT-CDO-IMPORTANCE:1
X-MICROSOFT-DISALLOW-COUNTER:FALSE
X-MS-OLK-ALLOWEXTERNCHECK:TRUE
X-MS-OLK-CONFTYPE:0
X-MICROSOFT-CDO-ALLDAYEVENT:1
X-MICROSOFT-MSNCALENDAR-ALLDAYEVENT:1
END:VEVENT
END:VCALENDAR