BEGIN:VCALENDAR
PRODID:-//Microsoft Corporation//Outlook 12.0 MIMEDIR//EN
VERSION:2.0
CALSCALE:GREGORIAN
BEGIN:VEVENT
UID: a75890e8-a801-4afe-843f-1595cc14bbf2
SUMMARY:KHK ÕE esitleb: naljapäev
DTSTAMP:20260401T101000
DTSTART:20260401T101000
DTEND:20260401T113000
LOCATION:Koolimaja
DESCRIPTION: <p><br>Kell 10.10 tanstuvahetund koridorides<br>Kell 11.05–11.30 kõige naljakama kostüümi valimine (1. korruse koridoris)</p><p><strong>Link: </strong>https://hariduse.edu.ee/et/sundmuste-kalender/khk-oe-esitleb-naljapaev</p><p><strong>Hind: </strong></p>
STATUS:CONFIRMED
SEQUENCE:3
X-ALT-DESC;FMTTYPE=text/html:<p><br>Kell 10.10 tanstuvahetund koridorides<br>Kell 11.05–11.30 kõige naljakama kostüümi valimine (1. korruse koridoris)</p><p><strong>Link: </strong>https://hariduse.edu.ee/et/sundmuste-kalender/khk-oe-esitleb-naljapaev</p><p><strong>Hind: </strong></p>
X-MICROSOFT-CDO-BUSYSTATUS:OOF
X-MICROSOFT-CDO-IMPORTANCE:1
X-MICROSOFT-DISALLOW-COUNTER:FALSE
X-MS-OLK-ALLOWEXTERNCHECK:TRUE
X-MS-OLK-CONFTYPE:0
X-MICROSOFT-CDO-ALLDAYEVENT:
X-MICROSOFT-MSNCALENDAR-ALLDAYEVENT:
END:VEVENT
END:VCALENDAR