BEGIN:VCALENDAR
PRODID:-//Microsoft Corporation//Outlook 12.0 MIMEDIR//EN
VERSION:2.0
CALSCALE:GREGORIAN
BEGIN:VEVENT
UID: 5a7521de-91c9-41d5-9ff5-3c81289082ed
SUMMARY:Vendade Liivide etluskonkurss
DTSTAMP:20260401T115000
DTSTART:20260401T115000
DTEND:20260401T143000
LOCATION:Aula
DESCRIPTION: <p><strong>Link: </strong>https://hariduse.edu.ee/et/sundmuste-kalender/vendade-liivide-etluskonkurss</p><p><strong>Hind: </strong></p>
STATUS:CONFIRMED
SEQUENCE:3
X-ALT-DESC;FMTTYPE=text/html:<p><strong>Link: </strong>https://hariduse.edu.ee/et/sundmuste-kalender/vendade-liivide-etluskonkurss</p><p><strong>Hind: </strong></p>
X-MICROSOFT-CDO-BUSYSTATUS:OOF
X-MICROSOFT-CDO-IMPORTANCE:1
X-MICROSOFT-DISALLOW-COUNTER:FALSE
X-MS-OLK-ALLOWEXTERNCHECK:TRUE
X-MS-OLK-CONFTYPE:0
X-MICROSOFT-CDO-ALLDAYEVENT:
X-MICROSOFT-MSNCALENDAR-ALLDAYEVENT:
END:VEVENT
END:VCALENDAR