BEGIN:VCALENDAR
PRODID:-//Microsoft Corporation//Outlook 12.0 MIMEDIR//EN
VERSION:2.0
CALSCALE:GREGORIAN
BEGIN:VEVENT
UID: 34c84d13-5331-4d92-ac8c-9b75ed6a6781
SUMMARY:Maakondlik Jäljendusvaadend
DTSTAMP:20260402T103000
DTSTART:20260402T103000
DTEND:20260402T150000
LOCATION:Tornimäe rahvamaja
DESCRIPTION: <p><br>Väljasõit kooli juurest u kl 9.30.</p><p>&nbsp;</p><p><strong>Link: </strong>https://hariduse.edu.ee/et/sundmuste-kalender/maakondlik-jaljendusvaadend-1</p><p><strong>Hind: </strong></p>
STATUS:CONFIRMED
SEQUENCE:3
X-ALT-DESC;FMTTYPE=text/html:<p><br>Väljasõit kooli juurest u kl 9.30.</p><p>&nbsp;</p><p><strong>Link: </strong>https://hariduse.edu.ee/et/sundmuste-kalender/maakondlik-jaljendusvaadend-1</p><p><strong>Hind: </strong></p>
X-MICROSOFT-CDO-BUSYSTATUS:OOF
X-MICROSOFT-CDO-IMPORTANCE:1
X-MICROSOFT-DISALLOW-COUNTER:FALSE
X-MS-OLK-ALLOWEXTERNCHECK:TRUE
X-MS-OLK-CONFTYPE:0
X-MICROSOFT-CDO-ALLDAYEVENT:
X-MICROSOFT-MSNCALENDAR-ALLDAYEVENT:
END:VEVENT
END:VCALENDAR