BEGIN:VCALENDAR
PRODID:-//Microsoft Corporation//Outlook 12.0 MIMEDIR//EN
VERSION:2.0
CALSCALE:GREGORIAN
BEGIN:VEVENT
UID: 5d5c9723-251c-454b-9bb0-a46dd695e45d
SUMMARY:KHK ujumisvõistlus, 5.–9.kl
DTSTAMP:20260402T123000
DTSTART:20260402T123000
DTEND:20260402T140000
LOCATION:Nooruse kooli ujula
DESCRIPTION: <p><strong>5.–6</strong>. klass kell <strong>12.30</strong>–13.15; võistlusalad (T, P): 25&nbsp;m vabalt, 25&nbsp;m selili; klassidevaheline teatevõistlus 4&nbsp;x&nbsp;25&nbsp;vabalt<br><strong>7.–9</strong>. klass kell <strong>13.15</strong>–14.00; võistlusalad (T, P): 50&nbsp;m vabalt, 50&nbsp;m selili; klassidevaheline teatevõistlus 4&nbsp;x&nbsp;25&nbsp;vabalt</p><p><strong>Registreerimine</strong><br>Anna oma osalusest teada esmaspäeva, <strong>30.märtsi õhtuks</strong> kehalise kasvatuse õpetajale või huvijuht Arti Allmägile.</p><p><strong>Link: </strong>https://hariduse.edu.ee/et/sundmuste-kalender/khk-ujumisvoistlus-5-9kl</p><p><strong>Hind: </strong></p>
STATUS:CONFIRMED
SEQUENCE:3
X-ALT-DESC;FMTTYPE=text/html:<p><strong>5.–6</strong>. klass kell <strong>12.30</strong>–13.15; võistlusalad (T, P): 25&nbsp;m vabalt, 25&nbsp;m selili; klassidevaheline teatevõistlus 4&nbsp;x&nbsp;25&nbsp;vabalt<br><strong>7.–9</strong>. klass kell <strong>13.15</strong>–14.00; võistlusalad (T, P): 50&nbsp;m vabalt, 50&nbsp;m selili; klassidevaheline teatevõistlus 4&nbsp;x&nbsp;25&nbsp;vabalt</p><p><strong>Registreerimine</strong><br>Anna oma osalusest teada esmaspäeva, <strong>30.märtsi õhtuks</strong> kehalise kasvatuse õpetajale või huvijuht Arti Allmägile.</p><p><strong>Link: </strong>https://hariduse.edu.ee/et/sundmuste-kalender/khk-ujumisvoistlus-5-9kl</p><p><strong>Hind: </strong></p>
X-MICROSOFT-CDO-BUSYSTATUS:OOF
X-MICROSOFT-CDO-IMPORTANCE:1
X-MICROSOFT-DISALLOW-COUNTER:FALSE
X-MS-OLK-ALLOWEXTERNCHECK:TRUE
X-MS-OLK-CONFTYPE:0
X-MICROSOFT-CDO-ALLDAYEVENT:
X-MICROSOFT-MSNCALENDAR-ALLDAYEVENT:
END:VEVENT
END:VCALENDAR